BEGIN:VCALENDAR
VERSION:2.0
PRODID:-//Library Market//iCal Export//EN
BEGIN:VEVENT
SUMMARY:Summer Reading begins!
UID:21087
DTSTAMP:20260422T130500Z
DTSTART:20260526T050000Z
DTEND:20260526T050000Z
LOCATION:Joplin Public Library, 1901 E 20th St., Joplin, MO 64804, United 
 States
ROOM: Summer Reading begins!
DESCRIPTION:Summer Reading 2026 begins today! Visit the library to pick up
  your reading challenge log and event calendars, or sign up online at jopl
 inpubliclibrary.beanstack.org!
URL:https://joplin.librarycalendar.com/event/summer-reading-begins-21087
END:VEVENT
END:VCALENDAR
